BEGIN:VCALENDAR
VERSION:2.0
PRODID:-//Thee Jewels Events - ECPv6.15.11//NONSGML v1.0//EN
CALSCALE:GREGORIAN
METHOD:PUBLISH
X-WR-CALNAME:Thee Jewels Events
X-ORIGINAL-URL:https://theejewels.co.zw
X-WR-CALDESC:Events for Thee Jewels Events
REFRESH-INTERVAL;VALUE=DURATION:PT1H
X-Robots-Tag:noindex
X-PUBLISHED-TTL:PT1H
BEGIN:VTIMEZONE
TZID:UTC
BEGIN:STANDARD
TZOFFSETFROM:+0000
TZOFFSETTO:+0000
TZNAME:UTC
DTSTART:20240101T000000
END:STANDARD
END:VTIMEZONE
BEGIN:VEVENT
DTSTART;TZID=UTC:20251225T080000
DTEND;TZID=UTC:20251225T080000
DTSTAMP:20260419T153115
CREATED:20180906T052935Z
LAST-MODIFIED:20250912T181940Z
UID:303-1766649600-1766649600@theejewels.co.zw
SUMMARY:Product Launch Reamold
DESCRIPTION:Come and Join us this Product Launch.
URL:https://theejewels.co.zw/event/product-launch-reamold/
LOCATION:Mutare\, 206 South Marion\, Mutare\, 00263\, Zimbabwe
CATEGORIES:Product Launching
ATTACH;FMTTYPE=image/jpeg:https://theejewels.co.zw/wp-content/uploads/revslider/mainslider-image-8.jpg
ORGANIZER;CN="Thee Jewels Events":MAILTO:info@theejewels.co.zw
END:VEVENT
END:VCALENDAR